BEGIN:VCALENDAR
VERSION:2.0
PRODID:-//Arno Krijger - ECPv6.0.0//NONSGML v1.0//EN
CALSCALE:GREGORIAN
METHOD:PUBLISH
X-ORIGINAL-URL:https://arnokrijger.nl
X-WR-CALDESC:Events for Arno Krijger
REFRESH-INTERVAL;VALUE=DURATION:PT1H
X-Robots-Tag:noindex
X-PUBLISHED-TTL:PT1H
BEGIN:VTIMEZONE
TZID:Europe/Amsterdam
BEGIN:DAYLIGHT
TZOFFSETFROM:+0100
TZOFFSETTO:+0200
TZNAME:CEST
DTSTART:20250330T010000
END:DAYLIGHT
BEGIN:STANDARD
TZOFFSETFROM:+0200
TZOFFSETTO:+0100
TZNAME:CET
DTSTART:20251026T010000
END:STANDARD
END:VTIMEZONE
BEGIN:VEVENT
DTSTART;TZID=Europe/Amsterdam:20250830T080000
DTEND;TZID=Europe/Amsterdam:20250830T170000
DTSTAMP:20260424T144644
CREATED:20250722T171630Z
LAST-MODIFIED:20250722T171630Z
UID:3150-1756540800-1756573200@arnokrijger.nl
SUMMARY:Schlarmann/Krijger/Herman - Jazz in de Gracht
DESCRIPTION:Felix Schlarmann – drums \nBenjamin Herman – alto \nArno Krijger – Hammondorgan & basspedals \n  \nJazz in de Gracht
URL:https://arnokrijger.nl/event/schlarmann-krijger-herman-jazz-in-de-gracht/
LOCATION:Jazz in de Gracht\, Den Haag\, Netherlands
ATTACH;FMTTYPE=image/jpeg:https://arnokrijger.nl/wp-content/uploads/2022/06/10310999t1hc8b9.jpg
END:VEVENT
END:VCALENDAR