BEGIN:VCALENDAR
VERSION:2.0
PRODID:-//Arno Krijger - ECPv6.0.0//NONSGML v1.0//EN
CALSCALE:GREGORIAN
METHOD:PUBLISH
X-ORIGINAL-URL:https://arnokrijger.nl
X-WR-CALDESC:Events for Arno Krijger
REFRESH-INTERVAL;VALUE=DURATION:PT1H
X-Robots-Tag:noindex
X-PUBLISHED-TTL:PT1H
BEGIN:VTIMEZONE
TZID:Europe/Amsterdam
BEGIN:DAYLIGHT
TZOFFSETFROM:+0100
TZOFFSETTO:+0200
TZNAME:CEST
DTSTART:20240331T010000
END:DAYLIGHT
BEGIN:STANDARD
TZOFFSETFROM:+0200
TZOFFSETTO:+0100
TZNAME:CET
DTSTART:20241027T010000
END:STANDARD
END:VTIMEZONE
BEGIN:VEVENT
DTSTART;VALUE=DATE:20240224
DTEND;VALUE=DATE:20240225
DTSTAMP:20260425T172319
CREATED:20240131T101511Z
LAST-MODIFIED:20240131T101511Z
UID:2967-1708732800-1708819199@arnokrijger.nl
SUMMARY:Nils Wogram's Nostalgia
DESCRIPTION:We’ll play at the Trombone Festival in Basel with Bart Van Lier and Jiggs Whiggham as guests
URL:https://arnokrijger.nl/event/nils-wograms-nostalgia/
LOCATION:Trombone festival\, Basel\, Switzerland
ATTACH;FMTTYPE=image/jpeg:https://arnokrijger.nl/wp-content/uploads/2022/07/Naamloos-1.jpg
END:VEVENT
BEGIN:VEVENT
DTSTART;VALUE=DATE:20240225
DTEND;VALUE=DATE:20240226
DTSTAMP:20260425T172319
CREATED:20240131T101648Z
LAST-MODIFIED:20240131T101648Z
UID:2972-1708819200-1708905599@arnokrijger.nl
SUMMARY:Nils Wogram's Nostalgia
DESCRIPTION:we’ll play a gig in Horgen (near Zurich)
URL:https://arnokrijger.nl/event/nils-wograms-nostalgia-2/
LOCATION:Horgen jazzclub\, Switzerland
ATTACH;FMTTYPE=image/jpeg:https://arnokrijger.nl/wp-content/uploads/2022/07/Naamloos-1.jpg
END:VEVENT
BEGIN:VEVENT
DTSTART;VALUE=DATE:20240226
DTEND;VALUE=DATE:20240227
DTSTAMP:20260425T172319
CREATED:20240131T101920Z
LAST-MODIFIED:20240131T101920Z
UID:2981-1708905600-1708991999@arnokrijger.nl
SUMMARY:Nils Wogram's Nostalgia
DESCRIPTION:rehearsal for upcoming recordings
URL:https://arnokrijger.nl/event/nils-wograms-nostalgia-4/
LOCATION:maennedorf\, Maennedorf\, Switzerland
ATTACH;FMTTYPE=image/jpeg:https://arnokrijger.nl/wp-content/uploads/2022/07/Naamloos-1.jpg
END:VEVENT
BEGIN:VEVENT
DTSTART;VALUE=DATE:20240227
DTEND;VALUE=DATE:20240228
DTSTAMP:20260425T172319
CREATED:20240131T102010Z
LAST-MODIFIED:20240131T102010Z
UID:2985-1708992000-1709078399@arnokrijger.nl
SUMMARY:Nils Wogram's Nostalgia
DESCRIPTION:rehearsal for upcoming recordings
URL:https://arnokrijger.nl/event/nils-wograms-nostalgia-5/
LOCATION:maennedorf\, Maennedorf\, Switzerland
ATTACH;FMTTYPE=image/jpeg:https://arnokrijger.nl/wp-content/uploads/2022/07/Naamloos-1.jpg
END:VEVENT
BEGIN:VEVENT
DTSTART;TZID=Europe/Amsterdam:20240228T080000
DTEND;TZID=Europe/Amsterdam:20240228T170000
DTSTAMP:20260425T172319
CREATED:20240131T101759Z
LAST-MODIFIED:20240131T101759Z
UID:2977-1709107200-1709139600@arnokrijger.nl
SUMMARY:Nils Wogram's Nostalgia
DESCRIPTION:
URL:https://arnokrijger.nl/event/nils-wograms-nostalgia-3/
LOCATION:jazzclub Zurich\, zurich\, Switzerland
ATTACH;FMTTYPE=image/jpeg:https://arnokrijger.nl/wp-content/uploads/2022/07/Naamloos-1.jpg
END:VEVENT
END:VCALENDAR