BEGIN:VCALENDAR
VERSION:2.0
PRODID:-//Arno Krijger - ECPv6.0.0//NONSGML v1.0//EN
CALSCALE:GREGORIAN
METHOD:PUBLISH
X-WR-CALNAME:Arno Krijger
X-ORIGINAL-URL:https://arnokrijger.nl
X-WR-CALDESC:Events for Arno Krijger
REFRESH-INTERVAL;VALUE=DURATION:PT1H
X-Robots-Tag:noindex
X-PUBLISHED-TTL:PT1H
BEGIN:VTIMEZONE
TZID:Europe/Amsterdam
BEGIN:DAYLIGHT
TZOFFSETFROM:+0100
TZOFFSETTO:+0200
TZNAME:CEST
DTSTART:20220327T010000
END:DAYLIGHT
BEGIN:STANDARD
TZOFFSETFROM:+0200
TZOFFSETTO:+0100
TZNAME:CET
DTSTART:20221030T010000
END:STANDARD
END:VTIMEZONE
BEGIN:VEVENT
DTSTART;VALUE=DATE:20220520
DTEND;VALUE=DATE:20220521
DTSTAMP:20260426T005730
CREATED:20220422T102051Z
LAST-MODIFIED:20220422T102051Z
UID:2449-1653004800-1653091199@arnokrijger.nl
SUMMARY:Onoda
DESCRIPTION:
URL:https://arnokrijger.nl/event/onoda-3/
LOCATION:paradox\, Willem II straat\, Tilburg\, Netherlands
ATTACH;FMTTYPE=image/jpeg:https://arnokrijger.nl/wp-content/uploads/2022/03/onoda-zonder-tekst-breed.jpg
END:VEVENT
BEGIN:VEVENT
DTSTART;VALUE=DATE:20220515
DTEND;VALUE=DATE:20220516
DTSTAMP:20260426T005730
CREATED:20220420T130114Z
LAST-MODIFIED:20220420T130114Z
UID:2396-1652572800-1652659199@arnokrijger.nl
SUMMARY:Onoda
DESCRIPTION:
URL:https://arnokrijger.nl/event/onoda-2/
LOCATION:festival\, Berlin\, Germany
ATTACH;FMTTYPE=image/jpeg:https://arnokrijger.nl/wp-content/uploads/2022/03/onoda-zonder-tekst-breed.jpg
END:VEVENT
BEGIN:VEVENT
DTSTART;VALUE=DATE:20220513
DTEND;VALUE=DATE:20220514
DTSTAMP:20260426T005730
CREATED:20220420T130021Z
LAST-MODIFIED:20220420T130021Z
UID:2393-1652400000-1652486399@arnokrijger.nl
SUMMARY:Hammond Sandwich
DESCRIPTION:
URL:https://arnokrijger.nl/event/hammond-sandwich/
LOCATION:tilliander\, Oisterwijk\, Netherlands
ATTACH;FMTTYPE=image/png:https://arnokrijger.nl/wp-content/uploads/2022/04/Schermafbeelding-2022-04-14-om-23.33.59.png
END:VEVENT
BEGIN:VEVENT
DTSTART;VALUE=DATE:20220430
DTEND;VALUE=DATE:20220504
DTSTAMP:20260426T005730
CREATED:20220420T125914Z
LAST-MODIFIED:20220420T125914Z
UID:2390-1651276800-1651622399@arnokrijger.nl
SUMMARY:Recordings Florian Arbenz
DESCRIPTION:
URL:https://arnokrijger.nl/event/recordings-florian-arbenz/
LOCATION:studio\, basel\, Switzerland
ATTACH;FMTTYPE=image/png:https://arnokrijger.nl/wp-content/uploads/2022/03/Schermafbeelding-2022-03-02-om-22.10.08.png
END:VEVENT
BEGIN:VEVENT
DTSTART;TZID=Europe/Amsterdam:20220421T193000
DTEND;TZID=Europe/Amsterdam:20220421T213000
DTSTAMP:20260426T005730
CREATED:20220420T125651Z
LAST-MODIFIED:20220420T125651Z
UID:2386-1650569400-1650576600@arnokrijger.nl
SUMMARY:Onoda
DESCRIPTION:
URL:https://arnokrijger.nl/event/onoda/
LOCATION:Lantaren Venster\, Otto Reuchlinweg 996\,\, Rotterdam\, 3072 MD\, Netherlands
ATTACH;FMTTYPE=image/jpeg:https://arnokrijger.nl/wp-content/uploads/2022/03/onoda-zonder-tekst-breed.jpg
ORGANIZER;CN="":MAILTO:krijgerarno@gmail.com
END:VEVENT
END:VCALENDAR