BEGIN:VCALENDAR
VERSION:2.0
PRODID:-//Arno Krijger - ECPv6.0.0//NONSGML v1.0//EN
CALSCALE:GREGORIAN
METHOD:PUBLISH
X-ORIGINAL-URL:https://arnokrijger.nl
X-WR-CALDESC:Events for Arno Krijger
REFRESH-INTERVAL;VALUE=DURATION:PT1H
X-Robots-Tag:noindex
X-PUBLISHED-TTL:PT1H
BEGIN:VTIMEZONE
TZID:Europe/Amsterdam
BEGIN:DAYLIGHT
TZOFFSETFROM:+0100
TZOFFSETTO:+0200
TZNAME:CEST
DTSTART:20260329T010000
END:DAYLIGHT
BEGIN:STANDARD
TZOFFSETFROM:+0200
TZOFFSETTO:+0100
TZNAME:CET
DTSTART:20261025T010000
END:STANDARD
END:VTIMEZONE
BEGIN:VEVENT
DTSTART;VALUE=DATE:20260411
DTEND;VALUE=DATE:20260412
DTSTAMP:20260425T125038
CREATED:20260330T164315Z
LAST-MODIFIED:20260330T164930Z
UID:3310-1775865600-1775951999@arnokrijger.nl
SUMMARY:RobotKiller
DESCRIPTION:
URL:https://arnokrijger.nl/event/robotkiller-5/
LOCATION:jazzcafe Dizzy\, Rotterdam\, Netherlands
ATTACH;FMTTYPE=image/jpeg:https://arnokrijger.nl/wp-content/uploads/2022/04/RK_studio1-scaled.jpg
END:VEVENT
BEGIN:VEVENT
DTSTART;VALUE=DATE:20260413
DTEND;VALUE=DATE:20260414
DTSTAMP:20260425T125038
CREATED:20260330T163607Z
LAST-MODIFIED:20260330T163607Z
UID:3295-1776038400-1776124799@arnokrijger.nl
SUMMARY:Tour Nils Wogram Nostalgia
DESCRIPTION:
URL:https://arnokrijger.nl/event/tour-nils-wogram-nostalgia/
LOCATION:schutzen\, freiburg\, Germany
ATTACH;FMTTYPE=image/png:https://arnokrijger.nl/wp-content/uploads/2022/06/Schermafbeelding-2022-06-29-om-15.02.36.png
END:VEVENT
BEGIN:VEVENT
DTSTART;TZID=Europe/Amsterdam:20260414T080000
DTEND;TZID=Europe/Amsterdam:20260414T170000
DTSTAMP:20260425T125038
CREATED:20260330T163737Z
LAST-MODIFIED:20260330T163737Z
UID:3298-1776153600-1776186000@arnokrijger.nl
SUMMARY:Tour Nils Wogram Nostalgia
DESCRIPTION:
URL:https://arnokrijger.nl/event/tour-nils-wogram-nostalgia-2/
LOCATION:cavete\, Marburg\, Germany
ATTACH;FMTTYPE=image/png:https://arnokrijger.nl/wp-content/uploads/2022/06/Schermafbeelding-2022-06-29-om-15.02.36.png
END:VEVENT
BEGIN:VEVENT
DTSTART;VALUE=DATE:20260415
DTEND;VALUE=DATE:20260416
DTSTAMP:20260425T125038
CREATED:20260330T163900Z
LAST-MODIFIED:20260330T163900Z
UID:3301-1776211200-1776297599@arnokrijger.nl
SUMMARY:Tour Nils Wogram Nostalgia
DESCRIPTION:
URL:https://arnokrijger.nl/event/tour-nils-wogram-nostalgia-3/
LOCATION:schirrhof\, Kamp Lintfort\, Germany
ATTACH;FMTTYPE=image/png:https://arnokrijger.nl/wp-content/uploads/2022/06/Schermafbeelding-2022-06-29-om-15.02.36.png
END:VEVENT
BEGIN:VEVENT
DTSTART;VALUE=DATE:20260416
DTEND;VALUE=DATE:20260417
DTSTAMP:20260425T125038
CREATED:20260330T164012Z
LAST-MODIFIED:20260330T164012Z
UID:3304-1776297600-1776383999@arnokrijger.nl
SUMMARY:Tour Nils Wogram Nostalgia
DESCRIPTION:
URL:https://arnokrijger.nl/event/tour-nils-wogram-nostalgia-4/
LOCATION:palethe\, Pelt\, Belgium
ATTACH;FMTTYPE=image/png:https://arnokrijger.nl/wp-content/uploads/2022/06/Schermafbeelding-2022-06-29-om-15.02.36.png
END:VEVENT
BEGIN:VEVENT
DTSTART;VALUE=DATE:20260417
DTEND;VALUE=DATE:20260418
DTSTAMP:20260425T125038
CREATED:20260330T164126Z
LAST-MODIFIED:20260330T164126Z
UID:3307-1776384000-1776470399@arnokrijger.nl
SUMMARY:Tour Nils Wogram Nostalgia
DESCRIPTION:
URL:https://arnokrijger.nl/event/tour-nils-wogram-nostalgia-5/
LOCATION:Bunker ulmenwall\, Bielefeld\, Germany
ATTACH;FMTTYPE=image/png:https://arnokrijger.nl/wp-content/uploads/2022/06/Schermafbeelding-2022-06-29-om-15.02.36.png
END:VEVENT
BEGIN:VEVENT
DTSTART;TZID=Europe/Amsterdam:20260530T080000
DTEND;TZID=Europe/Amsterdam:20260530T170000
DTSTAMP:20260425T125038
CREATED:20260330T165210Z
LAST-MODIFIED:20260330T165210Z
UID:3313-1780128000-1780160400@arnokrijger.nl
SUMMARY:Schlarmann/Krijger/Herman
DESCRIPTION:Felix Schlarmann – drums \nArno Krijger – organ & pedals \nBenjamin Herman – alto
URL:https://arnokrijger.nl/event/schlarmann-krijger-herman/
LOCATION:Jazzboz\, Bergen op Zoom\, Netherlands
ATTACH;FMTTYPE=image/jpeg:https://arnokrijger.nl/wp-content/uploads/2022/05/Michiel-Stekelenburg-Trio-Onoda-LantarenVenster-2022-04-22-foto-Joke-Schot-4-Kopie.jpg
END:VEVENT
END:VCALENDAR