BEGIN:VCALENDAR
VERSION:2.0
PRODID:-//Arno Krijger - ECPv6.0.0//NONSGML v1.0//EN
CALSCALE:GREGORIAN
METHOD:PUBLISH
X-ORIGINAL-URL:https://arnokrijger.nl
X-WR-CALDESC:Events for Arno Krijger
REFRESH-INTERVAL;VALUE=DURATION:PT1H
X-Robots-Tag:noindex
X-PUBLISHED-TTL:PT1H
BEGIN:VTIMEZONE
TZID:Europe/Amsterdam
BEGIN:DAYLIGHT
TZOFFSETFROM:+0100
TZOFFSETTO:+0200
TZNAME:CEST
DTSTART:20240331T010000
END:DAYLIGHT
BEGIN:STANDARD
TZOFFSETFROM:+0200
TZOFFSETTO:+0100
TZNAME:CET
DTSTART:20241027T010000
END:STANDARD
BEGIN:DAYLIGHT
TZOFFSETFROM:+0100
TZOFFSETTO:+0200
TZNAME:CEST
DTSTART:20250330T010000
END:DAYLIGHT
BEGIN:STANDARD
TZOFFSETFROM:+0200
TZOFFSETTO:+0100
TZNAME:CET
DTSTART:20251026T010000
END:STANDARD
END:VTIMEZONE
BEGIN:VEVENT
DTSTART;TZID=Europe/Amsterdam:20241116T080000
DTEND;TZID=Europe/Amsterdam:20241116T170000
DTSTAMP:20260425T172749
CREATED:20240930T132510Z
LAST-MODIFIED:20240930T132510Z
UID:3042-1731744000-1731776400@arnokrijger.nl
SUMMARY:Robotkiller
DESCRIPTION:
URL:https://arnokrijger.nl/event/robotkiller-4/
LOCATION:DJS\, Dordrecht\, Netherlands
ATTACH;FMTTYPE=image/jpeg:https://arnokrijger.nl/wp-content/uploads/2022/04/RK_1-scaled.jpg
END:VEVENT
BEGIN:VEVENT
DTSTART;TZID=Europe/Amsterdam:20241128T080000
DTEND;TZID=Europe/Amsterdam:20241128T170000
DTSTAMP:20260425T172749
CREATED:20240930T131847Z
LAST-MODIFIED:20240930T132036Z
UID:3031-1732780800-1732813200@arnokrijger.nl
SUMMARY:Florian Arbenz trio
DESCRIPTION:touring with Florian Arbenz (drums) – Jorge Vistel (trp) and me on the Hammond organ & pedals \n \n  \n 
URL:https://arnokrijger.nl/event/florian-arbenz-trio/
LOCATION:peltjazz\, Belgium
ATTACH;FMTTYPE=image/png:https://arnokrijger.nl/wp-content/uploads/2023/03/Schermafbeelding-2023-03-31-om-15.41.09.png
END:VEVENT
BEGIN:VEVENT
DTSTART;TZID=Europe/Amsterdam:20241129T080000
DTEND;TZID=Europe/Amsterdam:20241129T170000
DTSTAMP:20260425T172749
CREATED:20240930T132130Z
LAST-MODIFIED:20240930T132130Z
UID:3035-1732867200-1732899600@arnokrijger.nl
SUMMARY:FLORIAN ARBENZ trio
DESCRIPTION:touring with Florian Arbenz (drums) – Jorge Vistel (trp) and me on the Hammond organ & pedals
URL:https://arnokrijger.nl/event/florian-arbenz-trio-2/
LOCATION:basel
ATTACH;FMTTYPE=image/png:https://arnokrijger.nl/wp-content/uploads/2023/03/Schermafbeelding-2023-03-31-om-15.41.09.png
END:VEVENT
BEGIN:VEVENT
DTSTART;TZID=Europe/Amsterdam:20241130T080000
DTEND;TZID=Europe/Amsterdam:20241130T170000
DTSTAMP:20260425T172749
CREATED:20240930T132222Z
LAST-MODIFIED:20240930T132222Z
UID:3038-1732953600-1732986000@arnokrijger.nl
SUMMARY:Florian Arbenz trio
DESCRIPTION:touring with Florian Arbenz (drums) – Jorge Vistel (trp) and me on the Hammond organ & pedals
URL:https://arnokrijger.nl/event/florian-arbenz-trio-3/
LOCATION:basel
ATTACH;FMTTYPE=image/png:https://arnokrijger.nl/wp-content/uploads/2023/03/Schermafbeelding-2023-03-31-om-15.41.09.png
END:VEVENT
BEGIN:VEVENT
DTSTART;TZID=Europe/Amsterdam:20250319T080000
DTEND;TZID=Europe/Amsterdam:20250319T170000
DTSTAMP:20260425T172749
CREATED:20240930T132629Z
LAST-MODIFIED:20240930T132736Z
UID:3044-1742371200-1742403600@arnokrijger.nl
SUMMARY:Scofield tribute
DESCRIPTION:invitation to relive and replay the beautiful songs of the great John Scofield – Aron Raams gtr
URL:https://arnokrijger.nl/event/scofield-tribute/
LOCATION:bussel\, oosterhout\, Netherlands
ATTACH;FMTTYPE=image/jpeg:https://arnokrijger.nl/wp-content/uploads/2022/05/Michiel-Stekelenburg-Trio-Onoda-LantarenVenster-2022-04-22-foto-Joke-Schot-4-Kopie.jpg
END:VEVENT
BEGIN:VEVENT
DTSTART;VALUE=DATE:20250511
DTEND;VALUE=DATE:20250512
DTSTAMP:20260425T172749
CREATED:20250328T153444Z
LAST-MODIFIED:20250328T153518Z
UID:3099-1746921600-1747007999@arnokrijger.nl
SUMMARY:Arbenz-Osby-Krijger
DESCRIPTION:
URL:https://arnokrijger.nl/event/arbenz-osby-krijger-22/
LOCATION:Dumont Aachen\, Aachen\, Germany
ATTACH;FMTTYPE=image/png:https://arnokrijger.nl/wp-content/uploads/2023/03/Schermafbeelding-2023-03-31-om-15.41.09.png
END:VEVENT
BEGIN:VEVENT
DTSTART;TZID=Europe/Amsterdam:20250516T080000
DTEND;TZID=Europe/Amsterdam:20250523T170000
DTSTAMP:20260425T172749
CREATED:20240930T133150Z
LAST-MODIFIED:20250328T153653Z
UID:3050-1747382400-1748019600@arnokrijger.nl
SUMMARY:Arbenz-Osby-Krijger TOUR 14-25 May
DESCRIPTION:
URL:https://arnokrijger.nl/event/arbenz-osby-krijger-tour-16-23-may/
ATTACH;FMTTYPE=image/png:https://arnokrijger.nl/wp-content/uploads/2023/03/Schermafbeelding-2023-03-31-om-15.41.09.png
END:VEVENT
BEGIN:VEVENT
DTSTART;VALUE=DATE:20250530
DTEND;VALUE=DATE:20250531
DTSTAMP:20260425T172749
CREATED:20250328T153903Z
LAST-MODIFIED:20250328T153903Z
UID:3104-1748563200-1748649599@arnokrijger.nl
SUMMARY:Nieuwe Veste Big Band
DESCRIPTION:
URL:https://arnokrijger.nl/event/nieuwe-veste-big-band/
LOCATION:Breda Jazz Festival\, Breda\, Netherlands
ATTACH;FMTTYPE=image/jpeg:https://arnokrijger.nl/wp-content/uploads/2022/04/Organ.jpeg
END:VEVENT
BEGIN:VEVENT
DTSTART;TZID=Europe/Amsterdam:20250531T080000
DTEND;TZID=Europe/Amsterdam:20250531T170000
DTSTAMP:20260425T172749
CREATED:20250328T154130Z
LAST-MODIFIED:20250328T154130Z
UID:3106-1748678400-1748710800@arnokrijger.nl
SUMMARY:Arbenz-Osby-Krijger in Birdland
DESCRIPTION:
URL:https://arnokrijger.nl/event/arbenz-osby-krijger-in-birdland/
LOCATION:Birdland Hamburg\, Hamburg\, Germany
ATTACH;FMTTYPE=image/png:https://arnokrijger.nl/wp-content/uploads/2023/03/Schermafbeelding-2023-03-31-om-15.41.09.png
END:VEVENT
BEGIN:VEVENT
DTSTART;VALUE=DATE:20250607
DTEND;VALUE=DATE:20250608
DTSTAMP:20260425T172749
CREATED:20250328T124702Z
LAST-MODIFIED:20250328T124702Z
UID:3092-1749254400-1749340799@arnokrijger.nl
SUMMARY:Arbenz-Osby-Krijger HAMSESSIONS
DESCRIPTION:Festival in Gent – Belgium – HAMSESSIONS
URL:https://arnokrijger.nl/event/arbenz-osby-krijger-hamsessions/
LOCATION:HAMSESSIONS\, GENT\, Belgium
ATTACH;FMTTYPE=image/png:https://arnokrijger.nl/wp-content/uploads/2023/03/Schermafbeelding-2023-03-31-om-15.41.09.png
END:VEVENT
BEGIN:VEVENT
DTSTART;TZID=Europe/Amsterdam:20250608T130000
DTEND;TZID=Europe/Amsterdam:20250608T170000
DTSTAMP:20260425T172749
CREATED:20250328T124220Z
LAST-MODIFIED:20250328T124220Z
UID:3089-1749387600-1749402000@arnokrijger.nl
SUMMARY:Festival Leidse Hofjes
DESCRIPTION:exact location to be announced \nStijn van de Weteringen Saxophone \nTim Hennekes drums \nArno Krijger – Hammondorgan & pedals
URL:https://arnokrijger.nl/event/festival-leidse-hofjes/
LOCATION:leidse hofjes\, Leiden\, Netherlands
ATTACH;FMTTYPE=image/jpeg:https://arnokrijger.nl/wp-content/uploads/2022/06/NilsWogramNostalgiaTrio_20102019_054_Foto_Guntram-Walter.jpg
END:VEVENT
BEGIN:VEVENT
DTSTART;TZID=Europe/Amsterdam:20250608T200000
DTEND;TZID=Europe/Amsterdam:20250608T230000
DTSTAMP:20260425T172749
CREATED:20250328T153247Z
LAST-MODIFIED:20250328T153247Z
UID:3097-1749412800-1749423600@arnokrijger.nl
SUMMARY:Scofield Tribute Duketown
DESCRIPTION:invitation to relive and replay the beautiful songs of the great John Scofield – Aron Raams gtr \nMarc Schenk – drums and Sven Happel bass. \nspecial guests Tom Beek tenorsax and Michelle Davids – vocals
URL:https://arnokrijger.nl/event/scofield-tribute-duketown/
LOCATION:duketown\, den bosch\, Netherlands
ATTACH;FMTTYPE=image/jpeg:https://arnokrijger.nl/wp-content/uploads/2022/06/achterkant-lantaren-venster-onoda.jpg
END:VEVENT
BEGIN:VEVENT
DTSTART;TZID=Europe/Amsterdam:20250830T080000
DTEND;TZID=Europe/Amsterdam:20250830T170000
DTSTAMP:20260425T172749
CREATED:20250722T171630Z
LAST-MODIFIED:20250722T171630Z
UID:3150-1756540800-1756573200@arnokrijger.nl
SUMMARY:Schlarmann/Krijger/Herman - Jazz in de Gracht
DESCRIPTION:Felix Schlarmann – drums \nBenjamin Herman – alto \nArno Krijger – Hammondorgan & basspedals \n  \nJazz in de Gracht
URL:https://arnokrijger.nl/event/schlarmann-krijger-herman-jazz-in-de-gracht/
LOCATION:Jazz in de Gracht\, Den Haag\, Netherlands
ATTACH;FMTTYPE=image/jpeg:https://arnokrijger.nl/wp-content/uploads/2022/06/10310999t1hc8b9.jpg
END:VEVENT
BEGIN:VEVENT
DTSTART;TZID=Europe/Amsterdam:20251013T080000
DTEND;TZID=Europe/Amsterdam:20251026T170000
DTSTAMP:20260425T172749
CREATED:20240930T133500Z
LAST-MODIFIED:20250722T172540Z
UID:3055-1760342400-1761498000@arnokrijger.nl
SUMMARY:Nostalgia-Nils Wogram tour '25 / Oct 14- Nov 1st
DESCRIPTION:
URL:https://arnokrijger.nl/event/nostalgia-nils-wogram-tour-25-oct-18-31/
ATTACH;FMTTYPE=image/png:https://arnokrijger.nl/wp-content/uploads/2022/06/Schermafbeelding-2022-06-29-om-15.02.36.png
END:VEVENT
BEGIN:VEVENT
DTSTART;TZID=Europe/Amsterdam:20251014T080000
DTEND;TZID=Europe/Amsterdam:20251014T170000
DTSTAMP:20260425T172749
CREATED:20250722T172424Z
LAST-MODIFIED:20250722T172646Z
UID:3158-1760428800-1760461200@arnokrijger.nl
SUMMARY:Nils Wogram
DESCRIPTION:Nils Wograms Nostalgia CD release tour \nNils Wogram – trombone \nArno Krijger – Hammondorgan & basspedals \nDejan Terzic – drums \n  \n 
URL:https://arnokrijger.nl/event/nils-wogram/
LOCATION:birdseye
ATTACH;FMTTYPE=image/png:https://arnokrijger.nl/wp-content/uploads/2022/06/Schermafbeelding-2022-06-29-om-15.02.36.png
END:VEVENT
BEGIN:VEVENT
DTSTART;TZID=Europe/Amsterdam:20251015T080000
DTEND;TZID=Europe/Amsterdam:20251015T170000
DTSTAMP:20260425T172749
CREATED:20250722T172755Z
LAST-MODIFIED:20250722T172755Z
UID:3162-1760515200-1760547600@arnokrijger.nl
SUMMARY:Nils Wogram
DESCRIPTION:Nils Wograms Nostalgia CD release tour \nNils Wogram – trombone \nArno Krijger – Hammondorgan & basspedals \nDejan Terzic – drums \n 
URL:https://arnokrijger.nl/event/nils-wogram-2/
LOCATION:birdseye
ATTACH;FMTTYPE=image/png:https://arnokrijger.nl/wp-content/uploads/2022/06/Schermafbeelding-2022-06-29-om-15.02.36.png
END:VEVENT
BEGIN:VEVENT
DTSTART;TZID=Europe/Amsterdam:20251017T080000
DTEND;TZID=Europe/Amsterdam:20251017T170000
DTSTAMP:20260425T172749
CREATED:20250722T173012Z
LAST-MODIFIED:20250722T173012Z
UID:3166-1760688000-1760720400@arnokrijger.nl
SUMMARY:Nils Wogram
DESCRIPTION:Nils Wograms Nostalgia CD release tour \nNils Wogram – trombone \nArno Krijger – Hammondorgan & basspedals \nDejan Terzic – drums \n 
URL:https://arnokrijger.nl/event/nils-wogram-4/
LOCATION:bejazz\, Bern\, Switzerland
ATTACH;FMTTYPE=image/png:https://arnokrijger.nl/wp-content/uploads/2022/06/Schermafbeelding-2022-06-29-om-15.02.36.png
END:VEVENT
BEGIN:VEVENT
DTSTART;TZID=Europe/Amsterdam:20251018T080000
DTEND;TZID=Europe/Amsterdam:20251018T170000
DTSTAMP:20260425T172749
CREATED:20250722T173358Z
LAST-MODIFIED:20250722T173358Z
UID:3169-1760774400-1760806800@arnokrijger.nl
SUMMARY:Nils Wogram
DESCRIPTION:Nils Wograms Nostalgia CD release tour \nNils Wogram – trombone \nArno Krijger – Hammondorgan & basspedals \nDejan Terzic – drums \n 
URL:https://arnokrijger.nl/event/nils-wogram-5/
LOCATION:jazzclub Regensburg\, Regensburg\, Germany
ATTACH;FMTTYPE=image/png:https://arnokrijger.nl/wp-content/uploads/2022/06/Schermafbeelding-2022-06-29-om-15.02.36.png
END:VEVENT
BEGIN:VEVENT
DTSTART;TZID=Europe/Amsterdam:20251019T080000
DTEND;TZID=Europe/Amsterdam:20251019T170000
DTSTAMP:20260425T172749
CREATED:20250722T173519Z
LAST-MODIFIED:20250722T173519Z
UID:3172-1760860800-1760893200@arnokrijger.nl
SUMMARY:Nils Wogram
DESCRIPTION:Nils Wograms Nostalgia CD release tour \nNils Wogram – trombone \nArno Krijger – Hammondorgan & basspedals \nDejan Terzic – drums \n 
URL:https://arnokrijger.nl/event/nils-wogram-6/
LOCATION:A-trane\, Berlin\, Germany
ATTACH;FMTTYPE=image/png:https://arnokrijger.nl/wp-content/uploads/2022/06/Schermafbeelding-2022-06-29-om-15.02.36.png
END:VEVENT
BEGIN:VEVENT
DTSTART;TZID=Europe/Amsterdam:20251020T080000
DTEND;TZID=Europe/Amsterdam:20251020T170000
DTSTAMP:20260425T172749
CREATED:20250722T173744Z
LAST-MODIFIED:20250722T173744Z
UID:3174-1760947200-1760979600@arnokrijger.nl
SUMMARY:Nils Wogram
DESCRIPTION:Nils Wograms Nostalgia CD release tour \nNils Wogram – trombone \nArno Krijger – Hammondorgan & basspedals \nDejan Terzic – drums \n 
URL:https://arnokrijger.nl/event/nils-wogram-7/
LOCATION:Magdeburg\, Magdeburg\, Germany
ATTACH;FMTTYPE=image/png:https://arnokrijger.nl/wp-content/uploads/2022/06/Schermafbeelding-2022-06-29-om-15.02.36.png
END:VEVENT
BEGIN:VEVENT
DTSTART;TZID=Europe/Amsterdam:20251021T080000
DTEND;TZID=Europe/Amsterdam:20251021T170000
DTSTAMP:20260425T172749
CREATED:20250722T173954Z
LAST-MODIFIED:20250722T173954Z
UID:3178-1761033600-1761066000@arnokrijger.nl
SUMMARY:Nils Wogram
DESCRIPTION:Nils Wograms Nostalgia CD release tour \nNils Wogram – trombone \nArno Krijger – Hammondorgan & basspedals \nDejan Terzic – drums \n 
URL:https://arnokrijger.nl/event/nils-wogram-8/
LOCATION:theaterstubchen\, Kassel\, Germany
ATTACH;FMTTYPE=image/png:https://arnokrijger.nl/wp-content/uploads/2022/06/Schermafbeelding-2022-06-29-om-15.02.36.png
END:VEVENT
BEGIN:VEVENT
DTSTART;TZID=Europe/Amsterdam:20251022T080000
DTEND;TZID=Europe/Amsterdam:20251022T170000
DTSTAMP:20260425T172749
CREATED:20250722T174048Z
LAST-MODIFIED:20250722T174048Z
UID:3181-1761120000-1761152400@arnokrijger.nl
SUMMARY:Nils Wogram
DESCRIPTION:Nils Wograms Nostalgia CD release tour \nNils Wogram – trombone \nArno Krijger – Hammondorgan & basspedals \nDejan Terzic – drums \n 
URL:https://arnokrijger.nl/event/nils-wogram-9/
LOCATION:Loft\, Cologne\, Germany
ATTACH;FMTTYPE=image/png:https://arnokrijger.nl/wp-content/uploads/2022/06/Schermafbeelding-2022-06-29-om-15.02.36.png
END:VEVENT
BEGIN:VEVENT
DTSTART;TZID=Europe/Amsterdam:20251024T080000
DTEND;TZID=Europe/Amsterdam:20251226T170000
DTSTAMP:20260425T172749
CREATED:20250722T174303Z
LAST-MODIFIED:20251008T105343Z
UID:3186-1761292800-1766768400@arnokrijger.nl
SUMMARY:Nils Wogram
DESCRIPTION:Nils Wograms Nostalgia CD release tour \nNils Wogram – trombone \nArno Krijger – Hammondorgan & basspedals \nDejan Terzic – drums \n 
URL:https://arnokrijger.nl/event/nils-wogram-11/
LOCATION:Rechberg 1837\, Zurich\, Switzerland
ATTACH;FMTTYPE=image/png:https://arnokrijger.nl/wp-content/uploads/2022/06/Schermafbeelding-2022-06-29-om-15.02.36.png
END:VEVENT
BEGIN:VEVENT
DTSTART;TZID=Europe/Amsterdam:20251025T080000
DTEND;TZID=Europe/Amsterdam:20251025T170000
DTSTAMP:20260425T172749
CREATED:20250722T174350Z
LAST-MODIFIED:20251008T105429Z
UID:3188-1761379200-1761411600@arnokrijger.nl
SUMMARY:Nils Wogram
DESCRIPTION:Nils Wograms Nostalgia CD release tour \nNils Wogram – trombone \nArno Krijger – Hammondorgan & basspedals \nDejan Terzic – drums \n 
URL:https://arnokrijger.nl/event/nils-wogram-12/
LOCATION:Rechberg 1837\, Zurich\, Switzerland
ATTACH;FMTTYPE=image/png:https://arnokrijger.nl/wp-content/uploads/2022/06/Schermafbeelding-2022-06-29-om-15.02.36.png
END:VEVENT
BEGIN:VEVENT
DTSTART;TZID=Europe/Amsterdam:20251026T080000
DTEND;TZID=Europe/Amsterdam:20251026T170000
DTSTAMP:20260425T172749
CREATED:20250722T174428Z
LAST-MODIFIED:20251008T105640Z
UID:3190-1761465600-1761498000@arnokrijger.nl
SUMMARY:Nils Wogram
DESCRIPTION:Nils Wograms Nostalgia CD release tour \nNils Wogram – trombone \nArno Krijger – Hammondorgan & basspedals \nDejan Terzic – drums \n 
URL:https://arnokrijger.nl/event/nils-wogram-13/
LOCATION:Villa Ziegelstein\, Maennedorf
ATTACH;FMTTYPE=image/png:https://arnokrijger.nl/wp-content/uploads/2022/06/Schermafbeelding-2022-06-29-om-15.02.36.png
END:VEVENT
BEGIN:VEVENT
DTSTART;TZID=Europe/Amsterdam:20251027T080000
DTEND;TZID=Europe/Amsterdam:20251027T170000
DTSTAMP:20260425T172749
CREATED:20250722T174704Z
LAST-MODIFIED:20251008T105807Z
UID:3194-1761552000-1761584400@arnokrijger.nl
SUMMARY:Nils Wogram
DESCRIPTION:Nils Wograms Nostalgia CD release tour \nNils Wogram – trombone \nArno Krijger – Hammondorgan & basspedals \nDejan Terzic – drums \n 
URL:https://arnokrijger.nl/event/nils-wogram-15/
LOCATION:Z87\, Wurzburg
ATTACH;FMTTYPE=image/png:https://arnokrijger.nl/wp-content/uploads/2022/06/Schermafbeelding-2022-06-29-om-15.02.36.png
END:VEVENT
BEGIN:VEVENT
DTSTART;TZID=Europe/Amsterdam:20251028T080000
DTEND;TZID=Europe/Amsterdam:20251028T170000
DTSTAMP:20260425T172749
CREATED:20250722T174845Z
LAST-MODIFIED:20250722T174845Z
UID:3198-1761638400-1761670800@arnokrijger.nl
SUMMARY:Nils Wogram
DESCRIPTION:Nils Wograms Nostalgia CD release tour \nNils Wogram – trombone \nArno Krijger – Hammondorgan & basspedals \nDejan Terzic – drums
URL:https://arnokrijger.nl/event/nils-wogram-16/
LOCATION:jazztalent\, Garmisch Partenkirchen\, Germany
ATTACH;FMTTYPE=image/png:https://arnokrijger.nl/wp-content/uploads/2022/06/Schermafbeelding-2022-06-29-om-15.02.36.png
END:VEVENT
BEGIN:VEVENT
DTSTART;TZID=Europe/Amsterdam:20251029T080000
DTEND;TZID=Europe/Amsterdam:20251029T170000
DTSTAMP:20260425T172749
CREATED:20250722T174958Z
LAST-MODIFIED:20250722T174958Z
UID:3201-1761724800-1761757200@arnokrijger.nl
SUMMARY:Nils Wogram
DESCRIPTION:Nils Wograms Nostalgia CD release tour \nNils Wogram – trombone \nArno Krijger – Hammondorgan & basspedals \nDejan Terzic – drums
URL:https://arnokrijger.nl/event/nils-wogram-17/
LOCATION:unterfahrt\, Munchen\, Germany
ATTACH;FMTTYPE=image/png:https://arnokrijger.nl/wp-content/uploads/2022/06/Schermafbeelding-2022-06-29-om-15.02.36.png
END:VEVENT
BEGIN:VEVENT
DTSTART;TZID=Europe/Amsterdam:20251030T080000
DTEND;TZID=Europe/Amsterdam:20251030T170000
DTSTAMP:20260425T172749
CREATED:20250722T175246Z
LAST-MODIFIED:20250722T175246Z
UID:3205-1761811200-1761843600@arnokrijger.nl
SUMMARY:Nils Wogram
DESCRIPTION:Nils Wograms Nostalgia CD release tour \nNils Wogram – trombone \nArno Krijger – Hammondorgan & basspedals \nDejan Terzic – drums
URL:https://arnokrijger.nl/event/nils-wogram-18/
LOCATION:jazz im Kino\, Ginsheim-Gustavsburg\, Germany
ATTACH;FMTTYPE=image/png:https://arnokrijger.nl/wp-content/uploads/2022/06/Schermafbeelding-2022-06-29-om-15.02.36.png
END:VEVENT
BEGIN:VEVENT
DTSTART;TZID=Europe/Amsterdam:20251031T080000
DTEND;TZID=Europe/Amsterdam:20251031T170000
DTSTAMP:20260425T172749
CREATED:20250722T175344Z
LAST-MODIFIED:20250722T175344Z
UID:3208-1761897600-1761930000@arnokrijger.nl
SUMMARY:Nils Wogram
DESCRIPTION:Nils Wograms Nostalgia CD release tour \nNils Wogram – trombone \nArno Krijger – Hammondorgan & basspedals \nDejan Terzic – drums
URL:https://arnokrijger.nl/event/nils-wogram-19/
LOCATION:theaterhaus\, stuttgart\, Germany
ATTACH;FMTTYPE=image/png:https://arnokrijger.nl/wp-content/uploads/2022/06/Schermafbeelding-2022-06-29-om-15.02.36.png
END:VEVENT
END:VCALENDAR