BEGIN:VCALENDAR
VERSION:2.0
PRODID:-//Arno Krijger - ECPv6.0.0//NONSGML v1.0//EN
CALSCALE:GREGORIAN
METHOD:PUBLISH
X-WR-CALNAME:Arno Krijger
X-ORIGINAL-URL:https://arnokrijger.nl
X-WR-CALDESC:Events for Arno Krijger
REFRESH-INTERVAL;VALUE=DURATION:PT1H
X-Robots-Tag:noindex
X-PUBLISHED-TTL:PT1H
BEGIN:VTIMEZONE
TZID:Europe/Amsterdam
BEGIN:DAYLIGHT
TZOFFSETFROM:+0100
TZOFFSETTO:+0200
TZNAME:CEST
DTSTART:20240331T010000
END:DAYLIGHT
BEGIN:STANDARD
TZOFFSETFROM:+0200
TZOFFSETTO:+0100
TZNAME:CET
DTSTART:20241027T010000
END:STANDARD
END:VTIMEZONE
BEGIN:VEVENT
DTSTART;TZID=Europe/Amsterdam:20241130T080000
DTEND;TZID=Europe/Amsterdam:20241130T170000
DTSTAMP:20260425T042511
CREATED:20240930T132222Z
LAST-MODIFIED:20240930T132222Z
UID:3038-1732953600-1732986000@arnokrijger.nl
SUMMARY:Florian Arbenz trio
DESCRIPTION:touring with Florian Arbenz (drums) – Jorge Vistel (trp) and me on the Hammond organ & pedals
URL:https://arnokrijger.nl/event/florian-arbenz-trio-3/
LOCATION:basel
ATTACH;FMTTYPE=image/png:https://arnokrijger.nl/wp-content/uploads/2023/03/Schermafbeelding-2023-03-31-om-15.41.09.png
END:VEVENT
END:VCALENDAR