BEGIN:VCALENDAR
VERSION:2.0
PRODID:-//Arno Krijger - ECPv6.0.0//NONSGML v1.0//EN
CALSCALE:GREGORIAN
METHOD:PUBLISH
X-WR-CALNAME:Arno Krijger
X-ORIGINAL-URL:https://arnokrijger.nl
X-WR-CALDESC:Events for Arno Krijger
REFRESH-INTERVAL;VALUE=DURATION:PT1H
X-Robots-Tag:noindex
X-PUBLISHED-TTL:PT1H
BEGIN:VTIMEZONE
TZID:Europe/Amsterdam
BEGIN:DAYLIGHT
TZOFFSETFROM:+0100
TZOFFSETTO:+0200
TZNAME:CEST
DTSTART:20240331T010000
END:DAYLIGHT
BEGIN:STANDARD
TZOFFSETFROM:+0200
TZOFFSETTO:+0100
TZNAME:CET
DTSTART:20241027T010000
END:STANDARD
END:VTIMEZONE
BEGIN:VEVENT
DTSTART;TZID=Europe/Amsterdam:20241116T080000
DTEND;TZID=Europe/Amsterdam:20241116T170000
DTSTAMP:20260425T055056
CREATED:20240930T132510Z
LAST-MODIFIED:20240930T132510Z
UID:3042-1731744000-1731776400@arnokrijger.nl
SUMMARY:Robotkiller
DESCRIPTION:
URL:https://arnokrijger.nl/event/robotkiller-4/
LOCATION:DJS\, Dordrecht\, Netherlands
ATTACH;FMTTYPE=image/jpeg:https://arnokrijger.nl/wp-content/uploads/2022/04/RK_1-scaled.jpg
END:VEVENT
END:VCALENDAR