BEGIN:VCALENDAR
VERSION:2.0
PRODID:-//Arno Krijger - ECPv6.0.0//NONSGML v1.0//EN
CALSCALE:GREGORIAN
METHOD:PUBLISH
X-WR-CALNAME:Arno Krijger
X-ORIGINAL-URL:https://arnokrijger.nl
X-WR-CALDESC:Events for Arno Krijger
REFRESH-INTERVAL;VALUE=DURATION:PT1H
X-Robots-Tag:noindex
X-PUBLISHED-TTL:PT1H
BEGIN:VTIMEZONE
TZID:Europe/Amsterdam
BEGIN:DAYLIGHT
TZOFFSETFROM:+0100
TZOFFSETTO:+0200
TZNAME:CEST
DTSTART:20240331T010000
END:DAYLIGHT
BEGIN:STANDARD
TZOFFSETFROM:+0200
TZOFFSETTO:+0100
TZNAME:CET
DTSTART:20241027T010000
END:STANDARD
END:VTIMEZONE
BEGIN:VEVENT
DTSTART;VALUE=DATE:20240224
DTEND;VALUE=DATE:20240225
DTSTAMP:20260425T185242
CREATED:20240131T101511Z
LAST-MODIFIED:20240131T101511Z
UID:2967-1708732800-1708819199@arnokrijger.nl
SUMMARY:Nils Wogram's Nostalgia
DESCRIPTION:We’ll play at the Trombone Festival in Basel with Bart Van Lier and Jiggs Whiggham as guests
URL:https://arnokrijger.nl/event/nils-wograms-nostalgia/
LOCATION:Trombone festival\, Basel\, Switzerland
ATTACH;FMTTYPE=image/jpeg:https://arnokrijger.nl/wp-content/uploads/2022/07/Naamloos-1.jpg
END:VEVENT
END:VCALENDAR